BEGIN:VCALENDAR
VERSION:2.0
PRODID:-//Hands-On Infection Control - ECPv6.15.20//NONSGML v1.0//EN
CALSCALE:GREGORIAN
METHOD:PUBLISH
X-WR-CALNAME:Hands-On Infection Control
X-ORIGINAL-URL:https://handsoninfectioncontrol.com.au
X-WR-CALDESC:Events for Hands-On Infection Control
REFRESH-INTERVAL;VALUE=DURATION:PT1H
X-Robots-Tag:noindex
X-PUBLISHED-TTL:PT1H
BEGIN:VTIMEZONE
TZID:Asia/Shanghai
BEGIN:STANDARD
TZOFFSETFROM:+0800
TZOFFSETTO:+0800
TZNAME:CST
DTSTART:20250101T000000
END:STANDARD
END:VTIMEZONE
BEGIN:VEVENT
DTSTART;VALUE=DATE:20260204
DTEND;VALUE=DATE:20260205
DTSTAMP:20260420T215920
CREATED:20251001T040913Z
LAST-MODIFIED:20251001T040950Z
UID:2531-1770163200-1770249599@handsoninfectioncontrol.com.au
SUMMARY:Primary Healthcare Nurses Day
DESCRIPTION:The first Wednesday in February each year is Primary Health Care Nurses Day\, where we celebrate the amazing work that nurses do outside of the hospital setting\, in aged care\, community\, general practice\, custodial\, schools and a range of other primary health care settings.\n 
URL:https://handsoninfectioncontrol.com.au/event/primary-healthcare-nurses-day-2/
LOCATION:Victoria
END:VEVENT
BEGIN:VEVENT
DTSTART;TZID=Asia/Shanghai:20260215T080000
DTEND;TZID=Asia/Shanghai:20260216T170000
DTSTAMP:20260420T215920
CREATED:20251001T040424Z
LAST-MODIFIED:20251001T040424Z
UID:2529-1771142400-1771261200@handsoninfectioncontrol.com.au
SUMMARY:27th Annual Scientific Meeting
DESCRIPTION:The 27th Annual Scientific Meeting will take place on Sunday\, February 15\, and Monday\, February 16\, 2026\, at the Pullman Melbourne Albert Park. \nThis event is expected to hold significant importance for the scientific and medical community\, government health officials\, academics\, and various health-related non-government organizations. \nThis 2-day event is approved for 8.5 hours of CPD accreditation for online participants. \nKeep updated here. \n  \n 
URL:https://handsoninfectioncontrol.com.au/event/27th-annual-scientific-meeting/
LOCATION:Pullman Melbourne Albert Park\, 65 Queens Road\, Albert Park\, Melbourne\, Victoria\, Australia
ORGANIZER;CN="Immunisation Coalition":MAILTO:info@immunisationcoalition.org.au
END:VEVENT
END:VCALENDAR