BEGIN:VCALENDAR
VERSION:2.0
PRODID:-//Hands-On Infection Control - ECPv6.15.20//NONSGML v1.0//EN
CALSCALE:GREGORIAN
METHOD:PUBLISH
X-WR-CALNAME:Hands-On Infection Control
X-ORIGINAL-URL:https://handsoninfectioncontrol.com.au
X-WR-CALDESC:Events for Hands-On Infection Control
REFRESH-INTERVAL;VALUE=DURATION:PT1H
X-Robots-Tag:noindex
X-PUBLISHED-TTL:PT1H
BEGIN:VTIMEZONE
TZID:Asia/Shanghai
BEGIN:STANDARD
TZOFFSETFROM:+0800
TZOFFSETTO:+0800
TZNAME:CST
DTSTART:20240101T000000
END:STANDARD
END:VTIMEZONE
BEGIN:VEVENT
DTSTART;TZID=Asia/Shanghai:20250930T080000
DTEND;TZID=Asia/Shanghai:20251002T170000
DTSTAMP:20260421T043314
CREATED:20251001T031110Z
LAST-MODIFIED:20251001T031110Z
UID:2522-1759219200-1759424400@handsoninfectioncontrol.com.au
SUMMARY:Ageing Australia National Conference 2025
DESCRIPTION:The Ageing Australia National Conference 2025 will bring together professionals\, advocates\, researchers\, policymakers and community leaders from across the country to explore the most pressing issues and most promising opportunities in ageing. \n30 September\n– Plenary sessions from 9am – 5pm\n– Trade exhibition open from 8am – 7pm\n– Welcome reception – 5pm – 7pm \n1 October\n– Plenary sessions from 9am – 5pm\n– Trade exhibition open from 8am – 6pm\n– Networking drinks – 5pm – 6pm \n2 October\n– Plenary sessions from 9am – 5pm\n– Trade exhibition open from 8am – 2pm\n– Conference dinner – 6.30pm – 11pm
URL:https://handsoninfectioncontrol.com.au/event/ageing-australia-national-conference-2025/
LOCATION:The Gold Coast Convention and Exhibition Centre (GCCEC)\, 2684-2690 Gold Coast Hwy\, Broadbeach\, QLD\, 4218\, Australia
END:VEVENT
BEGIN:VEVENT
DTSTART;TZID=Asia/Shanghai:20251001T080000
DTEND;TZID=Asia/Shanghai:20251001T170000
DTSTAMP:20260421T043314
CREATED:20251001T044809Z
LAST-MODIFIED:20251001T044809Z
UID:2539-1759305600-1759338000@handsoninfectioncontrol.com.au
SUMMARY:Wounds Australia 2026 Conference
DESCRIPTION:The Wounds Australia 2026 conference will be held from 23rd to 26th August 2026 in Adelaide. \nSave the dates and follow the site for updates.
URL:https://handsoninfectioncontrol.com.au/event/wounds-australia-2026-conference/
LOCATION:Victoria
END:VEVENT
BEGIN:VEVENT
DTSTART;TZID=Asia/Shanghai:20251011T080000
DTEND;TZID=Asia/Shanghai:20251012T130000
DTSTAMP:20260421T043314
CREATED:20251001T045821Z
LAST-MODIFIED:20251001T045821Z
UID:2543-1760169600-1760274000@handsoninfectioncontrol.com.au
SUMMARY:ACORN QLD Conference 2025
DESCRIPTION:This year’s theme\, Rediscover the Magic\, invites attendees to be inspired and enlightened as we explore the latest innovations in perioperative nursing practice.
URL:https://handsoninfectioncontrol.com.au/event/acorn-qld-conference-2025/
LOCATION:The Gold Coast Convention and Exhibition Centre (GCCEC)\, 2684-2690 Gold Coast Hwy\, Broadbeach\, QLD\, 4218\, Australia
END:VEVENT
BEGIN:VEVENT
DTSTART;VALUE=DATE:20251012
DTEND;VALUE=DATE:20251019
DTSTAMP:20260421T043314
CREATED:20251017T030032Z
LAST-MODIFIED:20251017T031120Z
UID:2556-1760227200-1760831999@handsoninfectioncontrol.com.au
SUMMARY:CSSD Event: International Central Sterile Service Week 2025
DESCRIPTION:International Central Sterile Service Week (now often called Sterile Processing Week) recognizes the committed specialists who fill Sterile Processing departments and make a positive difference in patient care. Held annually\, this week of celebration starts on the second Sunday in October and it is a dedicated time to honor the professionals who ensure that medical instruments are cleaned\, disinfected\, and sterilized for patient safety. \n  \n\n\n\n\n\n\nHOIC is grateful for every Sterile Processing professional.
URL:https://handsoninfectioncontrol.com.au/event/sterile-processing-week/
LOCATION:Victoria
END:VEVENT
BEGIN:VEVENT
DTSTART;TZID=Asia/Shanghai:20251013T080000
DTEND;TZID=Asia/Shanghai:20251019T170000
DTSTAMP:20260421T043314
CREATED:20251001T044501Z
LAST-MODIFIED:20251001T044623Z
UID:2538-1760342400-1760893200@handsoninfectioncontrol.com.au
SUMMARY:Podiatry Week
DESCRIPTION:Podiatry Week is an annual campaign that raises awareness of ankle and foot health and the essential role podiatrists play in healthcare. From a child’s very first steps\, podiatrists play a crucial role in ensuring kids walk\, run\, and grow with confidence. As you move through life chasing sporting goals\, staying active for better health\, or recovering from injury\, podiatrists help keep you moving pain-free. \nYou will find podiatrists across all areas of the health sector – from private practice\, community health services\, hospitals\, rural and remote outreach clinics\, to rehabilitation centres\, residential aged care\, across the disability sector and working in people’s homes.
URL:https://handsoninfectioncontrol.com.au/event/podiatry-week/
LOCATION:Victoria
END:VEVENT
BEGIN:VEVENT
DTSTART;TZID=Asia/Shanghai:20251018T080000
DTEND;TZID=Asia/Shanghai:20251018T160000
DTSTAMP:20260421T043314
CREATED:20251001T034806Z
LAST-MODIFIED:20251001T035109Z
UID:2527-1760774400-1760803200@handsoninfectioncontrol.com.au
SUMMARY:GENCA Fundamentals of endoscope reprocessing workshop
DESCRIPTION:This foundation program serves as an introduction to the reprocessing of flexible endoscopes incorporating infection control\, structure and function\, water filtration and workplace health and safety. These workshops are aimed at nurses\, CSSD technicians and assistants involved with the reprocessing of flexible endoscopes. \nRegister Here.
URL:https://handsoninfectioncontrol.com.au/event/genca-fundamentals-of-endoscope-reprocessing-workshop/
LOCATION:Victoria
END:VEVENT
BEGIN:VEVENT
DTSTART;TZID=Asia/Shanghai:20251019T080000
DTEND;TZID=Asia/Shanghai:20251025T170000
DTSTAMP:20260421T043314
CREATED:20251001T031454Z
LAST-MODIFIED:20251001T035632Z
UID:2523-1760860800-1761411600@handsoninfectioncontrol.com.au
SUMMARY:International Infection Prevention Week – October 19 to 25
DESCRIPTION:IPC Week is held in the third week of October each year. This year it will be celebrated from 19 – 25 October\nwith the theme “STAND UPPP for IPC – Unite. Prevent. Protect. Prevail.” \nThis year’s celebration will bring fresh resources\, inspiring stories\, and practical tools to empower infection preventionists and raise awareness about the importance of stopping the spread of infection. \nFind out more Here.
URL:https://handsoninfectioncontrol.com.au/event/international-infection-prevention-week-october-19-to-25/
LOCATION:Victoria
END:VEVENT
BEGIN:VEVENT
DTSTART;VALUE=DATE:20251020
DTEND;VALUE=DATE:20251021
DTSTAMP:20260421T043314
CREATED:20251001T044944Z
LAST-MODIFIED:20251001T045017Z
UID:2540-1760918400-1761004799@handsoninfectioncontrol.com.au
SUMMARY:Clean Hospitals Day 20 October 2025
DESCRIPTION:Clean Hospitals Day is celebrated each year on the 20th of October to raise global awareness of healthcare environmental hygiene (HEH) and increase engagement of healthcare facilities (HCFs) around the world. \nThe theme for Clean Hospitals Day 2025 is “Human Factors and Collaboration”
URL:https://handsoninfectioncontrol.com.au/event/clean-hospitals-day-20-october-2025/
LOCATION:Victoria
END:VEVENT
BEGIN:VEVENT
DTSTART;VALUE=DATE:20251020
DTEND;VALUE=DATE:20251021
DTSTAMP:20260421T043314
CREATED:20251002T002244Z
LAST-MODIFIED:20251002T002244Z
UID:2550-1760918400-1761004799@handsoninfectioncontrol.com.au
SUMMARY:Clean Hospitals Day 20 October 2025
DESCRIPTION:Clean Hospitals Day is celebrated each year on the 20th of October to raise global awareness of healthcare environmental hygiene (HEH) and increase engagement of healthcare facilities (HCFs) around the world. \nThe theme for Clean Hospitals Day 2025 is “Human Factors and Collaboration”. \nTo celebrate download the Toolkit  https://cleanhospitals.com/promotional-toolkit-2025/
URL:https://handsoninfectioncontrol.com.au/event/clean-hospitals-day-20-october-2025-2/
LOCATION:Victoria
END:VEVENT
BEGIN:VEVENT
DTSTART;VALUE=DATE:20251024
DTEND;VALUE=DATE:20251025
DTSTAMP:20260421T043314
CREATED:20251024T014600Z
LAST-MODIFIED:20251024T014626Z
UID:2561-1761264000-1761350399@handsoninfectioncontrol.com.au
SUMMARY:24 October- World Polio Day
DESCRIPTION:World Polio Day draws attention to the global mission to eradicate poliomyelitis (polio) once and for all. Polio\, a severe and potentially fatal illness caused by the poliovirus\, was targeted for global eradication by the World Health Assembly in 1988. Observed annually on 24 October\, World Polio Day raises awareness of the vital role of vaccination in protecting every child from this debilitating disease. It also recognizes the dedication of parents\, healthcare professionals\, and volunteers whose relentless efforts bring the world closer to eliminating polio. \nTo secure a polio-free world for future generations\, it is essential to uphold strong immunization coverage\, conduct rigorous surveillance to detect any resurgence of the virus\, and remain prepared to act swiftly in case of an outbreak.
URL:https://handsoninfectioncontrol.com.au/event/world-polio-day/
LOCATION:Victoria
END:VEVENT
BEGIN:VEVENT
DTSTART;TZID=Asia/Shanghai:20251024T080000
DTEND;TZID=Asia/Shanghai:20251115T170000
DTSTAMP:20260421T043314
CREATED:20251024T014836Z
LAST-MODIFIED:20251024T061602Z
UID:2562-1761292800-1763226000@handsoninfectioncontrol.com.au
SUMMARY:Australian Food Safety Week 8 – 15 November 2025
DESCRIPTION:Australian Food Safety Week is scheduled from the 8 to 15 November 2025\, the theme is “Don’t swallow the myth – food safety myth busting”. It is observed to raise public awareness about food safety practices and reduce foodborne illnesses. \n \nEHOs are encourage to promote the event through local communication channels including social media and newsletters. Check out the Food Safety Information Council for an example media release and social media graphics. Look out for the Department of Health’s media release\, social media posts and radio interviews that we plan to promote during the week.
URL:https://handsoninfectioncontrol.com.au/event/australian-food-safety-week-8-15-november-2025/
LOCATION:Victoria
END:VEVENT
END:VCALENDAR