BEGIN:VCALENDAR
VERSION:2.0
PRODID:-//Hands-On Infection Control - ECPv6.15.20//NONSGML v1.0//EN
CALSCALE:GREGORIAN
METHOD:PUBLISH
X-ORIGINAL-URL:https://handsoninfectioncontrol.com.au
X-WR-CALDESC:Events for Hands-On Infection Control
REFRESH-INTERVAL;VALUE=DURATION:PT1H
X-Robots-Tag:noindex
X-PUBLISHED-TTL:PT1H
BEGIN:VTIMEZONE
TZID:Asia/Shanghai
BEGIN:STANDARD
TZOFFSETFROM:+0800
TZOFFSETTO:+0800
TZNAME:CST
DTSTART:20250101T000000
END:STANDARD
END:VTIMEZONE
BEGIN:VEVENT
DTSTART;VALUE=DATE:20260505
DTEND;VALUE=DATE:20260506
DTSTAMP:20260415T113051
CREATED:20251001T043110Z
LAST-MODIFIED:20251001T043110Z
UID:2535-1777939200-1778025599@handsoninfectioncontrol.com.au
SUMMARY:World Hand Hygiene Day
DESCRIPTION:Each year the SAVE LIVES: Clean Your Hands campaign aims to progress the goal of maintaining a global profile on the importance of hand hygiene in health care and to ‘bring people together’ in support of hand hygiene improvement globally. \nWHO calls on everyone to be inspired by the global movement to achieve universal health coverage (UHC)\, i.e. achieving better health and well-being for all people at all ages\, including financial risk protection\, access to quality essential health care services and access to safe\, effective\, quality and affordable essential medicines and vaccines for all. Infection Prevention and Control\, including hand hygiene\, is critical to achieve UHC as it is a practical and evidence-based approach with demonstrated impact on quality of care and patient safety across all levels of the health system.
URL:https://handsoninfectioncontrol.com.au/event/world-hand-hygiene-day-3/
LOCATION:Victoria
END:VEVENT
END:VCALENDAR