BEGIN:VCALENDAR
VERSION:2.0
PRODID:-//Hands-On Infection Control - ECPv6.15.20//NONSGML v1.0//EN
CALSCALE:GREGORIAN
METHOD:PUBLISH
X-WR-CALNAME:Hands-On Infection Control
X-ORIGINAL-URL:https://handsoninfectioncontrol.com.au
X-WR-CALDESC:Events for Hands-On Infection Control
REFRESH-INTERVAL;VALUE=DURATION:PT1H
X-Robots-Tag:noindex
X-PUBLISHED-TTL:PT1H
BEGIN:VTIMEZONE
TZID:Asia/Shanghai
BEGIN:STANDARD
TZOFFSETFROM:+0800
TZOFFSETTO:+0800
TZNAME:CST
DTSTART:20250101T000000
END:STANDARD
END:VTIMEZONE
BEGIN:VEVENT
DTSTART;TZID=Asia/Shanghai:20260322T080000
DTEND;TZID=Asia/Shanghai:20260328T170000
DTSTAMP:20260416T141353
CREATED:20260324T004419Z
LAST-MODIFIED:20260324T004714Z
UID:2680-1774166400-1774717200@handsoninfectioncontrol.com.au
SUMMARY:International Cleaning Week
DESCRIPTION:International Cleaning Week (ICW) 2026 is a global event organized by ISSA\, the worldwide cleaning industry association\, to honor the contributions of cleaning and facility professionals who maintain safe\, healthy\, and accessible environments. The 2026 celebration highlights the critical role of cleaning in public health\, sustainability\, and community well-being.  \nICW recognizes the dedication of cleaning professionals and innovators who ensure workplaces\, schools\, healthcare facilities\, and public spaces remain clean and safe. The week promotes industry advocacy\, raises awareness of the value of professional cleaning\, and encourages best practices in hygiene and facility management.
URL:https://handsoninfectioncontrol.com.au/event/international-cleaning-week/
LOCATION:Victoria
END:VEVENT
END:VCALENDAR