BEGIN:VCALENDAR
VERSION:2.0
PRODID:-//Hands-On Infection Control - ECPv6.15.20//NONSGML v1.0//EN
CALSCALE:GREGORIAN
METHOD:PUBLISH
X-WR-CALNAME:Hands-On Infection Control
X-ORIGINAL-URL:https://handsoninfectioncontrol.com.au
X-WR-CALDESC:Events for Hands-On Infection Control
REFRESH-INTERVAL;VALUE=DURATION:PT1H
X-Robots-Tag:noindex
X-PUBLISHED-TTL:PT1H
BEGIN:VTIMEZONE
TZID:Asia/Shanghai
BEGIN:STANDARD
TZOFFSETFROM:+0800
TZOFFSETTO:+0800
TZNAME:CST
DTSTART:20240101T000000
END:STANDARD
END:VTIMEZONE
BEGIN:VEVENT
DTSTART;TZID=Asia/Shanghai:20251118T080000
DTEND;TZID=Asia/Shanghai:20251124T170000
DTSTAMP:20260414T135508
CREATED:20251001T032109Z
LAST-MODIFIED:20251001T032431Z
UID:2525-1763452800-1764003600@handsoninfectioncontrol.com.au
SUMMARY:World AMR Awareness Week - 18 to 24 November
DESCRIPTION:World AMR Awareness Week (WAAW) is a global campaign that is celebrated annually to improve awareness and understanding of AMR and encourage best practices among the public\, One Health stakeholders and policymakers\, who all play a critical role in reducing the further emergence and spread of AMR. \nFind out more Here.
URL:https://handsoninfectioncontrol.com.au/event/world-amr-awareness-week-18-to-24-november/
LOCATION:Victoria
END:VEVENT
END:VCALENDAR