BEGIN:VCALENDAR
VERSION:2.0
PRODID:-//Hands-On Infection Control - ECPv6.15.20//NONSGML v1.0//EN
CALSCALE:GREGORIAN
METHOD:PUBLISH
X-ORIGINAL-URL:https://handsoninfectioncontrol.com.au
X-WR-CALDESC:Events for Hands-On Infection Control
REFRESH-INTERVAL;VALUE=DURATION:PT1H
X-Robots-Tag:noindex
X-PUBLISHED-TTL:PT1H
BEGIN:VTIMEZONE
TZID:Asia/Shanghai
BEGIN:STANDARD
TZOFFSETFROM:+0800
TZOFFSETTO:+0800
TZNAME:CST
DTSTART:20240101T000000
END:STANDARD
END:VTIMEZONE
BEGIN:VEVENT
DTSTART;VALUE=DATE:20250919
DTEND;VALUE=DATE:20250923
DTSTAMP:20260421T080635
CREATED:20250203T002955Z
LAST-MODIFIED:20250203T002955Z
UID:2400-1758240000-1758585599@handsoninfectioncontrol.com.au
SUMMARY:World Congress of Gastroenterology @Australian Gastroenterology 2025
DESCRIPTION:This event will take place from 19–22 September 2025 at the Melbourne Convention and Exhibition Centre\, Australia. \nWCOG@AGW25 will feature the following four key highlights: \n\nCutting-Edge Research Presentations\n\nShowcasing the latest advancements in gastroenterology and hepatology research from global experts.\n\n\nInnovative Clinical Practices\n\nWorkshops and sessions focused on integrating novel diagnostic and therapeutic approaches into clinical practice.\n\n\nGlobal Networking Opportunities\n\nConnecting professionals from around the world to collaborate\, share insights\, and build lasting partnerships.\n\n\nFocus on Emerging Trends\n\nSpecial sessions on areas such as AI in gastroenterology\, microbiome studies\, and personalised medicine.
URL:https://handsoninfectioncontrol.com.au/event/world-congress-of-gastroenterology-australian-gastroenterology-2025/
LOCATION:Melbourne Convention Exhibition Centre\, 1 Convention Centre Place\, South Wharf\, Victoria\, 3006\, Australia
END:VEVENT
END:VCALENDAR