BEGIN:VCALENDAR
VERSION:2.0
PRODID:-//Hands-On Infection Control - ECPv6.15.20//NONSGML v1.0//EN
CALSCALE:GREGORIAN
METHOD:PUBLISH
X-WR-CALNAME:Hands-On Infection Control
X-ORIGINAL-URL:https://handsoninfectioncontrol.com.au
X-WR-CALDESC:Events for Hands-On Infection Control
REFRESH-INTERVAL;VALUE=DURATION:PT1H
X-Robots-Tag:noindex
X-PUBLISHED-TTL:PT1H
BEGIN:VTIMEZONE
TZID:Asia/Shanghai
BEGIN:STANDARD
TZOFFSETFROM:+0800
TZOFFSETTO:+0800
TZNAME:CST
DTSTART:20240101T000000
END:STANDARD
END:VTIMEZONE
BEGIN:VEVENT
DTSTART;VALUE=DATE:20250827
DTEND;VALUE=DATE:20250830
DTSTAMP:20260421T125603
CREATED:20250130T230258Z
LAST-MODIFIED:20250130T230258Z
UID:2399-1756252800-1756511999@handsoninfectioncontrol.com.au
SUMMARY:Day Hospitals Australia National Conference 27-29 August 2025
DESCRIPTION:Day Hospitals Australia 2025 National Conference – Taking the Lead \nCelebrating 20 years of connecting industry leaders\, innovators\, and healthcare professionals in the day hospital sector. \nThis milestone event will feature expert speakers\, engaging discussions\, and invaluable networking opportunities. Stay tuned for updates\, including details on Sponsorship and Trade packages\, coming soon.
URL:https://handsoninfectioncontrol.com.au/event/day-hospitals-australia-national-conference-27-29-august-2025/
LOCATION:National Convention Centre\, Canberra\, ACT\, Australia
ORGANIZER;CN="Day Hospitals Australia":MAILTO:INFO@DAYHOSPITALSAUSTRALIA.NET.AU
END:VEVENT
END:VCALENDAR