BEGIN:VCALENDAR
VERSION:2.0
PRODID:-//Hands-On Infection Control - ECPv6.15.20//NONSGML v1.0//EN
CALSCALE:GREGORIAN
METHOD:PUBLISH
X-WR-CALNAME:Hands-On Infection Control
X-ORIGINAL-URL:https://handsoninfectioncontrol.com.au
X-WR-CALDESC:Events for Hands-On Infection Control
REFRESH-INTERVAL;VALUE=DURATION:PT1H
X-Robots-Tag:noindex
X-PUBLISHED-TTL:PT1H
BEGIN:VTIMEZONE
TZID:Asia/Shanghai
BEGIN:STANDARD
TZOFFSETFROM:+0800
TZOFFSETTO:+0800
TZNAME:CST
DTSTART:20240101T000000
END:STANDARD
END:VTIMEZONE
BEGIN:VEVENT
DTSTART;VALUE=DATE:20250516
DTEND;VALUE=DATE:20250519
DTSTAMP:20260415T052314
CREATED:20240717T074300Z
LAST-MODIFIED:20241024T000042Z
UID:2319-1747353600-1747612799@handsoninfectioncontrol.com.au
SUMMARY:GENCA National Conference 16 - 18 May 2024
DESCRIPTION:  \n \nThe GENCA 2025 National Conference will be held from 16th to 18th May 2025 at the Adelaide Convention Centre\, SA.\nAttending this conference offers delegates a valuable opportunity to reinforce the importance of teamwork\, communication and partnerships in achieving common goals and addressing complex healthcare challenges effectively.
URL:https://handsoninfectioncontrol.com.au/event/2319/
LOCATION:Adelaide Convention Centre\, Australia
ORGANIZER;CN="GENCA":MAILTO:admin@genca.org.au
END:VEVENT
END:VCALENDAR